BEGIN:VCALENDAR
VERSION:2.0
METHOD:PUBLISH
PRODID:- PBCS IT-News //NONSGML Events //EN
CALSCALE:GREGORIAN
X-WR-CALNAME:ICAL-BLOG
BEGIN:VEVENT
UID:655e61e4-e4e8-43bb-99fe-5323e5a0078e
DTSTAMP:20260424T073018Z
CREATED:20260424T073018Z
SUMMARY:Quizfrage 5258
DESCRIPTION:https://wp.pbcs.de/question/quizfrage-5258/ - Artikel vom: Mo.\, 29. September 2025\, 19:11:07 - Was ist das größte Objekt im Asteroidengürtel?
LOCATION:https://wp.pbcs.de
CATEGORIES:Gelbe Kategorie
TRANSP:TRANSPARENT
X-MICROSOFT-CDO-BUSYSTATUS:FREE
SEQUENCE:0
CLASS:PUBLIC
PRIORITY:1
DTSTART:20260424T070000Z
DTEND:20260424T080000Z
BEGIN:VALARM
TRIGGER:-PT30M
ACTION:DISPLAY
DESCRIPTION:Reminder for Quizfrage 5258
END:VALARM
END:VEVENT
END:VCALENDAR
