BEGIN:VCALENDAR
VERSION:2.0
METHOD:PUBLISH
PRODID:- PBCS IT-News //NONSGML Events //EN
CALSCALE:GREGORIAN
X-WR-CALNAME:ICAL-BLOG
BEGIN:VEVENT
UID:82ff0f2c-a4da-42fe-8a16-3da4afb97c98
DTSTAMP:20260419T132222Z
CREATED:20260419T132222Z
SUMMARY:Quizfrage 5255
DESCRIPTION:https://wp.pbcs.de/question/quizfrage-5255/ - Artikel vom: Mo.\, 29. September 2025\, 19:11:06 - Wie viele Planeten hat unser Sonnensystem?
LOCATION:https://wp.pbcs.de
CATEGORIES:Gelbe Kategorie
TRANSP:TRANSPARENT
X-MICROSOFT-CDO-BUSYSTATUS:FREE
SEQUENCE:0
CLASS:PUBLIC
PRIORITY:1
DTSTART:20260309T080000Z
DTEND:20260309T090000Z
BEGIN:VALARM
TRIGGER:-PT30M
ACTION:DISPLAY
DESCRIPTION:Reminder for Quizfrage 5255
END:VALARM
END:VEVENT
END:VCALENDAR
