BEGIN:VCALENDAR
VERSION:2.0
METHOD:PUBLISH
PRODID:- PBCS IT-News //NONSGML Events //EN
CALSCALE:GREGORIAN
X-WR-CALNAME:ICAL-BLOG
BEGIN:VEVENT
UID:c6265e3a-2b83-46a8-9718-b597f3fe38f4
DTSTAMP:20260422T230326Z
CREATED:20260422T230326Z
SUMMARY:Quizfrage 5252
DESCRIPTION:https://wp.pbcs.de/question/quizfrage-5252/ - Artikel vom: Mo.\, 29. September 2025\, 19:11:06 - Welcher Dienst in Microsoft 365 ermöglicht das Verwalten von Aufgaben und Projekten?
LOCATION:https://wp.pbcs.de
CATEGORIES:Gelbe Kategorie
TRANSP:TRANSPARENT
X-MICROSOFT-CDO-BUSYSTATUS:FREE
SEQUENCE:0
CLASS:PUBLIC
PRIORITY:1
DTSTART:20260423T070000Z
DTEND:20260423T080000Z
BEGIN:VALARM
TRIGGER:-PT30M
ACTION:DISPLAY
DESCRIPTION:Reminder for Quizfrage 5252
END:VALARM
END:VEVENT
END:VCALENDAR
