BEGIN:VCALENDAR
VERSION:2.0
METHOD:PUBLISH
PRODID:- PBCS IT-News //NONSGML Events //EN
CALSCALE:GREGORIAN
X-WR-CALNAME:ICAL-BLOG
BEGIN:VEVENT
UID:e380394e-8924-45b8-957a-29ec194d9907
DTSTAMP:20260421T142104Z
CREATED:20260421T142104Z
SUMMARY:Quizfrage 5235
DESCRIPTION:https://wp.pbcs.de/question/quizfrage-5235/ - Artikel vom: Mo.\, 29. September 2025\, 19:11:05 - Welche Komponente wird für die Identitätsverwaltung in Azure verwendet?
LOCATION:https://wp.pbcs.de
CATEGORIES:Gelbe Kategorie
TRANSP:TRANSPARENT
X-MICROSOFT-CDO-BUSYSTATUS:FREE
SEQUENCE:0
CLASS:PUBLIC
PRIORITY:1
DTSTART:20260422T070000Z
DTEND:20260422T080000Z
BEGIN:VALARM
TRIGGER:-PT30M
ACTION:DISPLAY
DESCRIPTION:Reminder for Quizfrage 5235
END:VALARM
END:VEVENT
END:VCALENDAR
