BEGIN:VCALENDAR
VERSION:2.0
METHOD:PUBLISH
PRODID:- PBCS IT-News //NONSGML Events //EN
CALSCALE:GREGORIAN
X-WR-CALNAME:ICAL-BLOG
BEGIN:VEVENT
UID:ffc4f205-a396-4cbd-8ea6-1e4195be6734
DTSTAMP:20260425T102312Z
CREATED:20260425T102312Z
SUMMARY:Quizfrage 5209
DESCRIPTION:https://wp.pbcs.de/question/quizfrage-5209/ - Artikel vom: Mo.\, 29. September 2025\, 19:11:04 - Vervollständige die Reihe: S\,M\,S\,?\,?\,M\,J
LOCATION:https://wp.pbcs.de
CATEGORIES:Gelbe Kategorie
TRANSP:TRANSPARENT
X-MICROSOFT-CDO-BUSYSTATUS:FREE
SEQUENCE:0
CLASS:PUBLIC
PRIORITY:1
DTSTART:20260426T070000Z
DTEND:20260426T080000Z
BEGIN:VALARM
TRIGGER:-PT30M
ACTION:DISPLAY
DESCRIPTION:Reminder for Quizfrage 5209
END:VALARM
END:VEVENT
END:VCALENDAR
