BEGIN:VCALENDAR
VERSION:2.0
METHOD:PUBLISH
PRODID:- PBCS IT-News //NONSGML Events //EN
CALSCALE:GREGORIAN
X-WR-CALNAME:ICAL-BLOG
BEGIN:VEVENT
UID:644437ae-7aae-450c-a9c6-e4cdd241315d
DTSTAMP:20260425T001718Z
CREATED:20260425T001718Z
SUMMARY:Quizfrage 5197
DESCRIPTION:https://wp.pbcs.de/question/quizfrage-5197/ - Artikel vom: Mo.\, 29. September 2025\, 19:11:03 - Welche Fabelwesen sind hier gemeint? - N N N N N N N N N N N -
LOCATION:https://wp.pbcs.de
CATEGORIES:Gelbe Kategorie
TRANSP:TRANSPARENT
X-MICROSOFT-CDO-BUSYSTATUS:FREE
SEQUENCE:0
CLASS:PUBLIC
PRIORITY:1
DTSTART:20260425T070000Z
DTEND:20260425T080000Z
BEGIN:VALARM
TRIGGER:-PT30M
ACTION:DISPLAY
DESCRIPTION:Reminder for Quizfrage 5197
END:VALARM
END:VEVENT
END:VCALENDAR
