BEGIN:VCALENDAR
VERSION:2.0
METHOD:PUBLISH
PRODID:- PBCS IT-News //NONSGML Events //EN
CALSCALE:GREGORIAN
X-WR-CALNAME:ICAL-BLOG
BEGIN:VEVENT
UID:474d7182-aa38-4504-9275-324d60c3b529
DTSTAMP:20260424T053715Z
CREATED:20260424T053715Z
SUMMARY:Quizfrage 5180
DESCRIPTION:https://wp.pbcs.de/question/quizfrage-5180/ - Artikel vom: Mo.\, 29. September 2025\, 19:11:02 - Wer schrieb -Der Herr der Ringe-?
LOCATION:https://wp.pbcs.de
CATEGORIES:Gelbe Kategorie
TRANSP:TRANSPARENT
X-MICROSOFT-CDO-BUSYSTATUS:FREE
SEQUENCE:0
CLASS:PUBLIC
PRIORITY:1
DTSTART:20260424T070000Z
DTEND:20260424T080000Z
BEGIN:VALARM
TRIGGER:-PT30M
ACTION:DISPLAY
DESCRIPTION:Reminder for Quizfrage 5180
END:VALARM
END:VEVENT
END:VCALENDAR
