BEGIN:VCALENDAR
VERSION:2.0
METHOD:PUBLISH
PRODID:- PBCS IT-News //NONSGML Events //EN
CALSCALE:GREGORIAN
X-WR-CALNAME:ICAL-BLOG
BEGIN:VEVENT
UID:5d26006c-7acc-49a4-9b29-61b7ac15ad50
DTSTAMP:20260419T150532Z
CREATED:20260419T150532Z
SUMMARY:Quizfrage 5178
DESCRIPTION:https://wp.pbcs.de/question/quizfrage-5178/ - Artikel vom: Mo.\, 29. September 2025\, 19:11:02 - Welches Tier ist das größte Reptil?
LOCATION:https://wp.pbcs.de
CATEGORIES:Gelbe Kategorie
TRANSP:TRANSPARENT
X-MICROSOFT-CDO-BUSYSTATUS:FREE
SEQUENCE:0
CLASS:PUBLIC
PRIORITY:1
DTSTART:20260418T070000Z
DTEND:20260418T080000Z
BEGIN:VALARM
TRIGGER:-PT30M
ACTION:DISPLAY
DESCRIPTION:Reminder for Quizfrage 5178
END:VALARM
END:VEVENT
END:VCALENDAR
