BEGIN:VCALENDAR
VERSION:2.0
METHOD:PUBLISH
PRODID:- PBCS IT-News //NONSGML Events //EN
CALSCALE:GREGORIAN
X-WR-CALNAME:ICAL-BLOG
BEGIN:VEVENT
UID:6e125fe0-b33f-4ca0-8481-2e4dec754628
DTSTAMP:20260425T151933Z
CREATED:20260425T151933Z
SUMMARY:Quizfrage 5170
DESCRIPTION:https://wp.pbcs.de/question/quizfrage-5170/ - Artikel vom: Mo.\, 29. September 2025\, 19:11:02 - Welches Tier ist das schnellste an Land?
LOCATION:https://wp.pbcs.de
CATEGORIES:Gelbe Kategorie
TRANSP:TRANSPARENT
X-MICROSOFT-CDO-BUSYSTATUS:FREE
SEQUENCE:0
CLASS:PUBLIC
PRIORITY:1
DTSTART:20260426T070000Z
DTEND:20260426T080000Z
BEGIN:VALARM
TRIGGER:-PT30M
ACTION:DISPLAY
DESCRIPTION:Reminder for Quizfrage 5170
END:VALARM
END:VEVENT
END:VCALENDAR
