BEGIN:VCALENDAR
VERSION:2.0
METHOD:PUBLISH
PRODID:- PBCS IT-News //NONSGML Events //EN
CALSCALE:GREGORIAN
X-WR-CALNAME:ICAL-BLOG
BEGIN:VEVENT
UID:dc5ab34d-135b-4d8e-99e6-982bc4a60c71
DTSTAMP:20260423T230104Z
CREATED:20260423T230104Z
SUMMARY:Quizfrage 5170
DESCRIPTION:https://wp.pbcs.de/question/quizfrage-5170/ - Artikel vom: Mo.\, 29. September 2025\, 19:11:02 - Welches Tier ist das schnellste an Land?
LOCATION:https://wp.pbcs.de
CATEGORIES:Gelbe Kategorie
TRANSP:TRANSPARENT
X-MICROSOFT-CDO-BUSYSTATUS:FREE
SEQUENCE:0
CLASS:PUBLIC
PRIORITY:1
DTSTART:20260424T070000Z
DTEND:20260424T080000Z
BEGIN:VALARM
TRIGGER:-PT30M
ACTION:DISPLAY
DESCRIPTION:Reminder for Quizfrage 5170
END:VALARM
END:VEVENT
END:VCALENDAR
