BEGIN:VCALENDAR
VERSION:2.0
METHOD:PUBLISH
PRODID:- PBCS IT-News //NONSGML Events //EN
CALSCALE:GREGORIAN
X-WR-CALNAME:ICAL-BLOG
BEGIN:VEVENT
UID:e049ae37-7ea4-43dc-898a-bb343edc0070
DTSTAMP:20260425T115321Z
CREATED:20260425T115321Z
SUMMARY:Quizfrage 5152
DESCRIPTION:https://wp.pbcs.de/question/quizfrage-5152/ - Artikel vom: Mo.\, 29. September 2025\, 19:11:00 - Welches der folgenden Passwörter ist am sichersten UND erfüllt empfohlene Regeln?
LOCATION:https://wp.pbcs.de
CATEGORIES:Gelbe Kategorie
TRANSP:TRANSPARENT
X-MICROSOFT-CDO-BUSYSTATUS:FREE
SEQUENCE:0
CLASS:PUBLIC
PRIORITY:1
DTSTART:20260426T070000Z
DTEND:20260426T080000Z
BEGIN:VALARM
TRIGGER:-PT30M
ACTION:DISPLAY
DESCRIPTION:Reminder for Quizfrage 5152
END:VALARM
END:VEVENT
END:VCALENDAR
