BEGIN:VCALENDAR
VERSION:2.0
METHOD:PUBLISH
PRODID:- PBCS IT-News //NONSGML Events //EN
CALSCALE:GREGORIAN
X-WR-CALNAME:ICAL-BLOG
BEGIN:VEVENT
UID:b4c8d1ca-0a8a-44dc-9405-bee7d0784eba
DTSTAMP:20260423T050255Z
CREATED:20260423T050255Z
SUMMARY:Quizfrage 5150
DESCRIPTION:https://wp.pbcs.de/question/quizfrage-5150/ - Artikel vom: Mo.\, 29. September 2025\, 19:11:00 - Sie erhalten einen Anruf mit der Rufnummer und der Stimme Ihres Chefs der Sie auffordert 276.000 EUR zu überweisen weil er eine Firma erworben hat. Was tun Sie?
LOCATION:https://wp.pbcs.de
CATEGORIES:Gelbe Kategorie
TRANSP:TRANSPARENT
X-MICROSOFT-CDO-BUSYSTATUS:FREE
SEQUENCE:0
CLASS:PUBLIC
PRIORITY:1
DTSTART:20260423T070000Z
DTEND:20260423T080000Z
BEGIN:VALARM
TRIGGER:-PT30M
ACTION:DISPLAY
DESCRIPTION:Reminder for Quizfrage 5150
END:VALARM
END:VEVENT
END:VCALENDAR
