BEGIN:VCALENDAR
VERSION:2.0
METHOD:PUBLISH
PRODID:- PBCS IT-News //NONSGML Events //EN
CALSCALE:GREGORIAN
X-WR-CALNAME:ICAL-BLOG
BEGIN:VEVENT
UID:0f54dfaa-1fa1-4ec6-acf5-dd185cce1e6b
DTSTAMP:20260424T200517Z
CREATED:20260424T200517Z
SUMMARY:Quizfrage 5098
DESCRIPTION:https://wp.pbcs.de/question/quizfrage-5098/ - Artikel vom: Mo.\, 29. September 2025\, 19:10:57 - Welche Zahl passt wortwörtlich nicht in die Reihe: 1 2 3 4 5 6 7 8 9 10 11 12
LOCATION:https://wp.pbcs.de
CATEGORIES:Gelbe Kategorie
TRANSP:TRANSPARENT
X-MICROSOFT-CDO-BUSYSTATUS:FREE
SEQUENCE:0
CLASS:PUBLIC
PRIORITY:1
DTSTART:20260425T070000Z
DTEND:20260425T080000Z
BEGIN:VALARM
TRIGGER:-PT30M
ACTION:DISPLAY
DESCRIPTION:Reminder for Quizfrage 5098
END:VALARM
END:VEVENT
END:VCALENDAR
