BEGIN:VCALENDAR
VERSION:2.0
METHOD:PUBLISH
PRODID:- PBCS IT-News //NONSGML Events //EN
CALSCALE:GREGORIAN
X-WR-CALNAME:ICAL-BLOG
BEGIN:VEVENT
UID:5c34715a-f66e-4fbf-8285-dc22386dabc4
DTSTAMP:20260422T133413Z
CREATED:20260422T133413Z
SUMMARY:Quizfrage 5093
DESCRIPTION:https://wp.pbcs.de/question/quizfrage-5093/ - Artikel vom: Mo.\, 29. September 2025\, 19:10:56 - Wann wurde Richard von Weizsäcker Bundespräsident?
LOCATION:https://wp.pbcs.de
CATEGORIES:Gelbe Kategorie
TRANSP:TRANSPARENT
X-MICROSOFT-CDO-BUSYSTATUS:FREE
SEQUENCE:0
CLASS:PUBLIC
PRIORITY:1
DTSTART:20260419T070000Z
DTEND:20260419T080000Z
BEGIN:VALARM
TRIGGER:-PT30M
ACTION:DISPLAY
DESCRIPTION:Reminder for Quizfrage 5093
END:VALARM
END:VEVENT
END:VCALENDAR
