BEGIN:VCALENDAR
VERSION:2.0
METHOD:PUBLISH
PRODID:- PBCS IT-News //NONSGML Events //EN
CALSCALE:GREGORIAN
X-WR-CALNAME:ICAL-BLOG
BEGIN:VEVENT
UID:15cc4b79-525b-4a3f-b069-605b7d088433
DTSTAMP:20260419T132232Z
CREATED:20260419T132232Z
SUMMARY:Quizfrage 5068
DESCRIPTION:https://wp.pbcs.de/question/quizfrage-5068/ - Artikel vom: Mo.\, 29. September 2025\, 19:10:55 - Im 2023er Indiana Jones Film geht es um
LOCATION:https://wp.pbcs.de
CATEGORIES:Gelbe Kategorie
TRANSP:TRANSPARENT
X-MICROSOFT-CDO-BUSYSTATUS:FREE
SEQUENCE:0
CLASS:PUBLIC
PRIORITY:1
DTSTART:20260309T080000Z
DTEND:20260309T090000Z
BEGIN:VALARM
TRIGGER:-PT30M
ACTION:DISPLAY
DESCRIPTION:Reminder for Quizfrage 5068
END:VALARM
END:VEVENT
END:VCALENDAR
