BEGIN:VCALENDAR
VERSION:2.0
METHOD:PUBLISH
PRODID:- PBCS IT-News //NONSGML Events //EN
CALSCALE:GREGORIAN
X-WR-CALNAME:ICAL-BLOG
BEGIN:VEVENT
UID:3ef76f90-fa72-473d-b5ca-3fcec650c135
DTSTAMP:20260425T151953Z
CREATED:20260425T151953Z
SUMMARY:Quizfrage 5034
DESCRIPTION:https://wp.pbcs.de/question/quizfrage-5034/ - Artikel vom: Mo.\, 29. September 2025\, 19:09:58 - Welche Speise wird aus dem Blut und dem Fett eines Schweins hergestellt?
LOCATION:https://wp.pbcs.de
CATEGORIES:Gelbe Kategorie
TRANSP:TRANSPARENT
X-MICROSOFT-CDO-BUSYSTATUS:FREE
SEQUENCE:0
CLASS:PUBLIC
PRIORITY:1
DTSTART:20260426T070000Z
DTEND:20260426T080000Z
BEGIN:VALARM
TRIGGER:-PT30M
ACTION:DISPLAY
DESCRIPTION:Reminder for Quizfrage 5034
END:VALARM
END:VEVENT
END:VCALENDAR
