BEGIN:VCALENDAR
VERSION:2.0
METHOD:PUBLISH
PRODID:- PBCS IT-News //NONSGML Events //EN
CALSCALE:GREGORIAN
X-WR-CALNAME:ICAL-BLOG
BEGIN:VEVENT
UID:9b02e09f-c0be-4745-9f77-ce2894c27fd4
DTSTAMP:20260425T204014Z
CREATED:20260425T204014Z
SUMMARY:Quizfrage 5026
DESCRIPTION:https://wp.pbcs.de/question/quizfrage-5026/ - Artikel vom: Mo.\, 29. September 2025\, 19:09:57 - Welche Süßigkeit ist auch ein Spitzname für einen Freund oder eine Freundin?
LOCATION:https://wp.pbcs.de
CATEGORIES:Gelbe Kategorie
TRANSP:TRANSPARENT
X-MICROSOFT-CDO-BUSYSTATUS:FREE
SEQUENCE:0
CLASS:PUBLIC
PRIORITY:1
DTSTART:20260426T070000Z
DTEND:20260426T080000Z
BEGIN:VALARM
TRIGGER:-PT30M
ACTION:DISPLAY
DESCRIPTION:Reminder for Quizfrage 5026
END:VALARM
END:VEVENT
END:VCALENDAR
