BEGIN:VCALENDAR
VERSION:2.0
METHOD:PUBLISH
PRODID:- PBCS IT-News //NONSGML Events //EN
CALSCALE:GREGORIAN
X-WR-CALNAME:ICAL-BLOG
BEGIN:VEVENT
UID:ae9f49e5-44ca-4005-8f38-62d2d7d08a33
DTSTAMP:20260425T132952Z
CREATED:20260425T132952Z
SUMMARY:Quizfrage 4973
DESCRIPTION:https://wp.pbcs.de/question/quizfrage-4973/ - Artikel vom: Mo.\, 29. September 2025\, 19:09:55 - Welches Getränk wird zu Weihnachten oft mit Gewürzen und Alkohol zubereitet?
LOCATION:https://wp.pbcs.de
CATEGORIES:Gelbe Kategorie
TRANSP:TRANSPARENT
X-MICROSOFT-CDO-BUSYSTATUS:FREE
SEQUENCE:0
CLASS:PUBLIC
PRIORITY:1
DTSTART:20260426T070000Z
DTEND:20260426T080000Z
BEGIN:VALARM
TRIGGER:-PT30M
ACTION:DISPLAY
DESCRIPTION:Reminder for Quizfrage 4973
END:VALARM
END:VEVENT
END:VCALENDAR
