BEGIN:VCALENDAR
VERSION:2.0
METHOD:PUBLISH
PRODID:- PBCS IT-News //NONSGML Events //EN
CALSCALE:GREGORIAN
X-WR-CALNAME:ICAL-BLOG
BEGIN:VEVENT
UID:88543ce5-21a7-4ae9-9c98-13a345e8a66d
DTSTAMP:20260422T231432Z
CREATED:20260422T231432Z
SUMMARY:Quizfrage 4948
DESCRIPTION:https://wp.pbcs.de/question/quizfrage-4948/ - Artikel vom: Mo.\, 29. September 2025\, 19:09:54 - KI-erstelltes Bild: Welcher Film wird gesucht?
LOCATION:https://wp.pbcs.de
CATEGORIES:Gelbe Kategorie
TRANSP:TRANSPARENT
X-MICROSOFT-CDO-BUSYSTATUS:FREE
SEQUENCE:0
CLASS:PUBLIC
PRIORITY:1
DTSTART:20260423T070000Z
DTEND:20260423T080000Z
BEGIN:VALARM
TRIGGER:-PT30M
ACTION:DISPLAY
DESCRIPTION:Reminder for Quizfrage 4948
END:VALARM
END:VEVENT
END:VCALENDAR
