BEGIN:VCALENDAR
VERSION:2.0
METHOD:PUBLISH
PRODID:- PBCS IT-News //NONSGML Events //EN
CALSCALE:GREGORIAN
X-WR-CALNAME:ICAL-BLOG
BEGIN:VEVENT
UID:c814261a-83b6-4fbb-993a-dcda0ba89ef8
DTSTAMP:20260421T092657Z
CREATED:20260421T092657Z
SUMMARY:Quizfrage 4947
DESCRIPTION:https://wp.pbcs.de/question/quizfrage-4947/ - Artikel vom: Mo.\, 29. September 2025\, 19:09:54 - KI-erstelltes Bild: Welchen Film suchen wir?
LOCATION:https://wp.pbcs.de
CATEGORIES:Gelbe Kategorie
TRANSP:TRANSPARENT
X-MICROSOFT-CDO-BUSYSTATUS:FREE
SEQUENCE:0
CLASS:PUBLIC
PRIORITY:1
DTSTART:20260416T070000Z
DTEND:20260416T080000Z
BEGIN:VALARM
TRIGGER:-PT30M
ACTION:DISPLAY
DESCRIPTION:Reminder for Quizfrage 4947
END:VALARM
END:VEVENT
END:VCALENDAR
