BEGIN:VCALENDAR
VERSION:2.0
METHOD:PUBLISH
PRODID:- PBCS IT-News //NONSGML Events //EN
CALSCALE:GREGORIAN
X-WR-CALNAME:ICAL-BLOG
BEGIN:VEVENT
UID:6f0bc689-bb20-4edd-8ff6-75099106ceff
DTSTAMP:20260425T151057Z
CREATED:20260425T151057Z
SUMMARY:Quizfrage 4922
DESCRIPTION:https://wp.pbcs.de/question/quizfrage-4922/ - Artikel vom: Mo.\, 29. September 2025\, 19:09:52 - KI-erstelltes Bild: Welchen Ort suchen wir?
LOCATION:https://wp.pbcs.de
CATEGORIES:Gelbe Kategorie
TRANSP:TRANSPARENT
X-MICROSOFT-CDO-BUSYSTATUS:FREE
SEQUENCE:0
CLASS:PUBLIC
PRIORITY:1
DTSTART:20260426T070000Z
DTEND:20260426T080000Z
BEGIN:VALARM
TRIGGER:-PT30M
ACTION:DISPLAY
DESCRIPTION:Reminder for Quizfrage 4922
END:VALARM
END:VEVENT
END:VCALENDAR
