BEGIN:VCALENDAR
VERSION:2.0
METHOD:PUBLISH
PRODID:- PBCS IT-News //NONSGML Events //EN
CALSCALE:GREGORIAN
X-WR-CALNAME:ICAL-BLOG
BEGIN:VEVENT
UID:d40a9da2-8c3f-4ba1-8733-cc911625b5ad
DTSTAMP:20260420T130756Z
CREATED:20260420T130756Z
SUMMARY:Quizfrage 4887
DESCRIPTION:https://wp.pbcs.de/question/quizfrage-4887/ - Artikel vom: Mo.\, 29. September 2025\, 19:09:51 - Wie weit liegen die Pitcairn Inseln vom Festland weg?
LOCATION:https://wp.pbcs.de
CATEGORIES:Gelbe Kategorie
TRANSP:TRANSPARENT
X-MICROSOFT-CDO-BUSYSTATUS:FREE
SEQUENCE:0
CLASS:PUBLIC
PRIORITY:1
DTSTART:20260421T070000Z
DTEND:20260421T080000Z
BEGIN:VALARM
TRIGGER:-PT30M
ACTION:DISPLAY
DESCRIPTION:Reminder for Quizfrage 4887
END:VALARM
END:VEVENT
END:VCALENDAR
