BEGIN:VCALENDAR
VERSION:2.0
METHOD:PUBLISH
PRODID:- PBCS IT-News //NONSGML Events //EN
CALSCALE:GREGORIAN
X-WR-CALNAME:ICAL-BLOG
BEGIN:VEVENT
UID:58c2404e-5185-4bd4-bbfd-f4d8ecf9b250
DTSTAMP:20260422T171218Z
CREATED:20260422T171218Z
SUMMARY:Quizfrage 4885
DESCRIPTION:https://wp.pbcs.de/question/quizfrage-4885/ - Artikel vom: Mo.\, 29. September 2025\, 19:09:51 - Welcher US-Bundesstaat hat die wenigsten Einwohner?
LOCATION:https://wp.pbcs.de
CATEGORIES:Gelbe Kategorie
TRANSP:TRANSPARENT
X-MICROSOFT-CDO-BUSYSTATUS:FREE
SEQUENCE:0
CLASS:PUBLIC
PRIORITY:1
DTSTART:20260423T070000Z
DTEND:20260423T080000Z
BEGIN:VALARM
TRIGGER:-PT30M
ACTION:DISPLAY
DESCRIPTION:Reminder for Quizfrage 4885
END:VALARM
END:VEVENT
END:VCALENDAR
