BEGIN:VCALENDAR
VERSION:2.0
METHOD:PUBLISH
PRODID:- PBCS IT-News //NONSGML Events //EN
CALSCALE:GREGORIAN
X-WR-CALNAME:ICAL-BLOG
BEGIN:VEVENT
UID:0c7245ff-f7ec-4f9e-9aa9-9651f15172c1
DTSTAMP:20260422T193802Z
CREATED:20260422T193802Z
SUMMARY:Quizfrage 4881
DESCRIPTION:https://wp.pbcs.de/question/quizfrage-4881/ - Artikel vom: Mo.\, 29. September 2025\, 19:09:51 - Das Videospiel Super Mario spielt im
LOCATION:https://wp.pbcs.de
CATEGORIES:Gelbe Kategorie
TRANSP:TRANSPARENT
X-MICROSOFT-CDO-BUSYSTATUS:FREE
SEQUENCE:0
CLASS:PUBLIC
PRIORITY:1
DTSTART:20260423T070000Z
DTEND:20260423T080000Z
BEGIN:VALARM
TRIGGER:-PT30M
ACTION:DISPLAY
DESCRIPTION:Reminder for Quizfrage 4881
END:VALARM
END:VEVENT
END:VCALENDAR
