BEGIN:VCALENDAR
VERSION:2.0
METHOD:PUBLISH
PRODID:- PBCS IT-News //NONSGML Events //EN
CALSCALE:GREGORIAN
X-WR-CALNAME:ICAL-BLOG
BEGIN:VEVENT
UID:447b9365-84c6-4197-9af2-c2363aa41c64
DTSTAMP:20260420T000036Z
CREATED:20260420T000036Z
SUMMARY:Quizfrage 4865
DESCRIPTION:https://wp.pbcs.de/question/quizfrage-4865/ - Artikel vom: Mo.\, 29. September 2025\, 19:09:50 - Die kleinen Menschen in Willy Wonkas Schokofabrik heißen?
LOCATION:https://wp.pbcs.de
CATEGORIES:Gelbe Kategorie
TRANSP:TRANSPARENT
X-MICROSOFT-CDO-BUSYSTATUS:FREE
SEQUENCE:0
CLASS:PUBLIC
PRIORITY:1
DTSTART:20260420T070000Z
DTEND:20260420T080000Z
BEGIN:VALARM
TRIGGER:-PT30M
ACTION:DISPLAY
DESCRIPTION:Reminder for Quizfrage 4865
END:VALARM
END:VEVENT
END:VCALENDAR
