BEGIN:VCALENDAR
VERSION:2.0
METHOD:PUBLISH
PRODID:- PBCS IT-News //NONSGML Events //EN
CALSCALE:GREGORIAN
X-WR-CALNAME:ICAL-BLOG
BEGIN:VEVENT
UID:5875776b-b1a2-40c3-a70b-cd476b8656bb
DTSTAMP:20260419T165715Z
CREATED:20260419T165715Z
SUMMARY:Quizfrage 4846
DESCRIPTION:https://wp.pbcs.de/question/quizfrage-4846/ - Artikel vom: Mo.\, 29. September 2025\, 19:09:49 - KI-erstelltes Bild: In welchem Animationsfilm wurden die Figuren durch Bären ersetzt?
LOCATION:https://wp.pbcs.de
CATEGORIES:Gelbe Kategorie
TRANSP:TRANSPARENT
X-MICROSOFT-CDO-BUSYSTATUS:FREE
SEQUENCE:0
CLASS:PUBLIC
PRIORITY:1
DTSTART:20260418T070000Z
DTEND:20260418T080000Z
BEGIN:VALARM
TRIGGER:-PT30M
ACTION:DISPLAY
DESCRIPTION:Reminder for Quizfrage 4846
END:VALARM
END:VEVENT
END:VCALENDAR
