BEGIN:VCALENDAR
VERSION:2.0
METHOD:PUBLISH
PRODID:- PBCS IT-News //NONSGML Events //EN
CALSCALE:GREGORIAN
X-WR-CALNAME:ICAL-BLOG
BEGIN:VEVENT
UID:e6fecf62-5d30-4029-b3f9-8ed14f0ba682
DTSTAMP:20260422T232808Z
CREATED:20260422T232808Z
SUMMARY:Quizfrage 4843
DESCRIPTION:https://wp.pbcs.de/question/quizfrage-4843/ - Artikel vom: Mo.\, 29. September 2025\, 19:09:49 - KI-erstelltes Bild: In welchem Blockbuster wurden die Figuren durch Bären ersetzt?
LOCATION:https://wp.pbcs.de
CATEGORIES:Gelbe Kategorie
TRANSP:TRANSPARENT
X-MICROSOFT-CDO-BUSYSTATUS:FREE
SEQUENCE:0
CLASS:PUBLIC
PRIORITY:1
DTSTART:20260423T070000Z
DTEND:20260423T080000Z
BEGIN:VALARM
TRIGGER:-PT30M
ACTION:DISPLAY
DESCRIPTION:Reminder for Quizfrage 4843
END:VALARM
END:VEVENT
END:VCALENDAR
