BEGIN:VCALENDAR
VERSION:2.0
METHOD:PUBLISH
PRODID:- PBCS IT-News //NONSGML Events //EN
CALSCALE:GREGORIAN
X-WR-CALNAME:ICAL-BLOG
BEGIN:VEVENT
UID:14bd981b-791f-446c-9f3e-abbe89fa1cc1
DTSTAMP:20260423T233828Z
CREATED:20260423T233828Z
SUMMARY:Quizfrage 4841
DESCRIPTION:https://wp.pbcs.de/question/quizfrage-4841/ - Artikel vom: Mo.\, 29. September 2025\, 19:09:48 - Zitat: Er peitschte seine Gretchen gar... Wo ist es her?
LOCATION:https://wp.pbcs.de
CATEGORIES:Gelbe Kategorie
TRANSP:TRANSPARENT
X-MICROSOFT-CDO-BUSYSTATUS:FREE
SEQUENCE:0
CLASS:PUBLIC
PRIORITY:1
DTSTART:20260424T070000Z
DTEND:20260424T080000Z
BEGIN:VALARM
TRIGGER:-PT30M
ACTION:DISPLAY
DESCRIPTION:Reminder for Quizfrage 4841
END:VALARM
END:VEVENT
END:VCALENDAR
