BEGIN:VCALENDAR
VERSION:2.0
METHOD:PUBLISH
PRODID:- PBCS IT-News //NONSGML Events //EN
CALSCALE:GREGORIAN
X-WR-CALNAME:ICAL-BLOG
BEGIN:VEVENT
UID:90b290a8-2ce2-4f94-909a-d113ed392f5b
DTSTAMP:20260423T104138Z
CREATED:20260423T104138Z
SUMMARY:Quizfrage 4838
DESCRIPTION:https://wp.pbcs.de/question/quizfrage-4838/ - Artikel vom: Mo.\, 29. September 2025\, 19:09:48 - Multipliziert man alle Zahlen auf der MF2-Tastatur kommt was raus?
LOCATION:https://wp.pbcs.de
CATEGORIES:Gelbe Kategorie
TRANSP:TRANSPARENT
X-MICROSOFT-CDO-BUSYSTATUS:FREE
SEQUENCE:0
CLASS:PUBLIC
PRIORITY:1
DTSTART:20260424T070000Z
DTEND:20260424T080000Z
BEGIN:VALARM
TRIGGER:-PT30M
ACTION:DISPLAY
DESCRIPTION:Reminder for Quizfrage 4838
END:VALARM
END:VEVENT
END:VCALENDAR
