BEGIN:VCALENDAR
VERSION:2.0
METHOD:PUBLISH
PRODID:- PBCS IT-News //NONSGML Events //EN
CALSCALE:GREGORIAN
X-WR-CALNAME:ICAL-BLOG
BEGIN:VEVENT
UID:01baf72f-8476-46c2-8ccd-ee6cbad7f923
DTSTAMP:20260419T200959Z
CREATED:20260419T200959Z
SUMMARY:Quizfrage 4830
DESCRIPTION:https://wp.pbcs.de/question/quizfrage-4830/ - Artikel vom: Mo.\, 29. September 2025\, 19:09:48 - KI-erstelltes Bild: In welcher Serie der 80er wurde die Titelfigur durch einen Bären ersetzt?
LOCATION:https://wp.pbcs.de
CATEGORIES:Gelbe Kategorie
TRANSP:TRANSPARENT
X-MICROSOFT-CDO-BUSYSTATUS:FREE
SEQUENCE:0
CLASS:PUBLIC
PRIORITY:1
DTSTART:20260420T070000Z
DTEND:20260420T080000Z
BEGIN:VALARM
TRIGGER:-PT30M
ACTION:DISPLAY
DESCRIPTION:Reminder for Quizfrage 4830
END:VALARM
END:VEVENT
END:VCALENDAR
