BEGIN:VCALENDAR
VERSION:2.0
METHOD:PUBLISH
PRODID:- PBCS IT-News //NONSGML Events //EN
CALSCALE:GREGORIAN
X-WR-CALNAME:ICAL-BLOG
BEGIN:VEVENT
UID:70e8ee40-b79a-4110-b835-7878b3814045
DTSTAMP:20260425T032214Z
CREATED:20260425T032214Z
SUMMARY:Quizfrage 4818
DESCRIPTION:https://wp.pbcs.de/question/quizfrage-4818/ - Artikel vom: Mo.\, 29. September 2025\, 19:09:47 - Wie heißt die Grenze um ein Schwarzes Loch an der das Licht der Anziehungskraft des Lochs nicht entkommen kann?
LOCATION:https://wp.pbcs.de
CATEGORIES:Gelbe Kategorie
TRANSP:TRANSPARENT
X-MICROSOFT-CDO-BUSYSTATUS:FREE
SEQUENCE:0
CLASS:PUBLIC
PRIORITY:1
DTSTART:20260425T070000Z
DTEND:20260425T080000Z
BEGIN:VALARM
TRIGGER:-PT30M
ACTION:DISPLAY
DESCRIPTION:Reminder for Quizfrage 4818
END:VALARM
END:VEVENT
END:VCALENDAR
