BEGIN:VCALENDAR
VERSION:2.0
METHOD:PUBLISH
PRODID:- PBCS IT-News //NONSGML Events //EN
CALSCALE:GREGORIAN
X-WR-CALNAME:ICAL-BLOG
BEGIN:VEVENT
UID:863dbf31-2f6a-474c-be75-05200d78118a
DTSTAMP:20260423T040216Z
CREATED:20260423T040216Z
SUMMARY:Quizfrage 4775
DESCRIPTION:https://wp.pbcs.de/question/quizfrage-4775/ - Artikel vom: Mo.\, 29. September 2025\, 19:09:45 - Wie viele Herzen hat ein Oktopus?
LOCATION:https://wp.pbcs.de
CATEGORIES:Gelbe Kategorie
TRANSP:TRANSPARENT
X-MICROSOFT-CDO-BUSYSTATUS:FREE
SEQUENCE:0
CLASS:PUBLIC
PRIORITY:1
DTSTART:20260423T070000Z
DTEND:20260423T080000Z
BEGIN:VALARM
TRIGGER:-PT30M
ACTION:DISPLAY
DESCRIPTION:Reminder for Quizfrage 4775
END:VALARM
END:VEVENT
END:VCALENDAR
