BEGIN:VCALENDAR
VERSION:2.0
METHOD:PUBLISH
PRODID:- PBCS IT-News //NONSGML Events //EN
CALSCALE:GREGORIAN
X-WR-CALNAME:ICAL-BLOG
BEGIN:VEVENT
UID:c73c68e2-c813-42cf-aff5-ef1f17990937
DTSTAMP:20260420T020706Z
CREATED:20260420T020706Z
SUMMARY:Quizfrage 4745
DESCRIPTION:https://wp.pbcs.de/question/quizfrage-4745/ - Artikel vom: Mo.\, 29. September 2025\, 19:09:43 - Entomologie ist die Untersuchung welcher Art von Tieren?
LOCATION:https://wp.pbcs.de
CATEGORIES:Gelbe Kategorie
TRANSP:TRANSPARENT
X-MICROSOFT-CDO-BUSYSTATUS:FREE
SEQUENCE:0
CLASS:PUBLIC
PRIORITY:1
DTSTART:20260420T070000Z
DTEND:20260420T080000Z
BEGIN:VALARM
TRIGGER:-PT30M
ACTION:DISPLAY
DESCRIPTION:Reminder for Quizfrage 4745
END:VALARM
END:VEVENT
END:VCALENDAR
