BEGIN:VCALENDAR
VERSION:2.0
METHOD:PUBLISH
PRODID:- PBCS IT-News //NONSGML Events //EN
CALSCALE:GREGORIAN
X-WR-CALNAME:ICAL-BLOG
BEGIN:VEVENT
UID:1415b791-8c1e-4550-8d95-d056632eeab8
DTSTAMP:20260425T131145Z
CREATED:20260425T131145Z
SUMMARY:Quizfrage 4722
DESCRIPTION:https://wp.pbcs.de/question/quizfrage-4722/ - Artikel vom: Mo.\, 29. September 2025\, 19:09:42 - Was ist die zentrale Farbe der 3-Streifen-Flagge der Mongolei?
LOCATION:https://wp.pbcs.de
CATEGORIES:Gelbe Kategorie
TRANSP:TRANSPARENT
X-MICROSOFT-CDO-BUSYSTATUS:FREE
SEQUENCE:0
CLASS:PUBLIC
PRIORITY:1
DTSTART:20260426T070000Z
DTEND:20260426T080000Z
BEGIN:VALARM
TRIGGER:-PT30M
ACTION:DISPLAY
DESCRIPTION:Reminder for Quizfrage 4722
END:VALARM
END:VEVENT
END:VCALENDAR
