BEGIN:VCALENDAR
VERSION:2.0
METHOD:PUBLISH
PRODID:- PBCS IT-News //NONSGML Events //EN
CALSCALE:GREGORIAN
X-WR-CALNAME:ICAL-BLOG
BEGIN:VEVENT
UID:a5aa94d7-2a89-4fd8-8b8c-931af2c79241
DTSTAMP:20260425T014917Z
CREATED:20260425T014917Z
SUMMARY:Quizfrage 4700
DESCRIPTION:https://wp.pbcs.de/question/quizfrage-4700/ - Artikel vom: Mo.\, 29. September 2025\, 19:09:40 - KI-erstelltes Bild: In welcher Kirche ist der Priester als Bär abgebildet?
LOCATION:https://wp.pbcs.de
CATEGORIES:Gelbe Kategorie
TRANSP:TRANSPARENT
X-MICROSOFT-CDO-BUSYSTATUS:FREE
SEQUENCE:0
CLASS:PUBLIC
PRIORITY:1
DTSTART:20260425T070000Z
DTEND:20260425T080000Z
BEGIN:VALARM
TRIGGER:-PT30M
ACTION:DISPLAY
DESCRIPTION:Reminder for Quizfrage 4700
END:VALARM
END:VEVENT
END:VCALENDAR
