BEGIN:VCALENDAR
VERSION:2.0
METHOD:PUBLISH
PRODID:- PBCS IT-News //NONSGML Events //EN
CALSCALE:GREGORIAN
X-WR-CALNAME:ICAL-BLOG
BEGIN:VEVENT
UID:c0d8e497-dffa-4c20-9578-0a17618ccc84
DTSTAMP:20260420T115129Z
CREATED:20260420T115129Z
SUMMARY:Quizfrage 4682
DESCRIPTION:https://wp.pbcs.de/question/quizfrage-4682/ - Artikel vom: Mo.\, 29. September 2025\, 19:09:39 - KI-erstelltes Bild: In welcher Filmparodie spielt der Bär?
LOCATION:https://wp.pbcs.de
CATEGORIES:Gelbe Kategorie
TRANSP:TRANSPARENT
X-MICROSOFT-CDO-BUSYSTATUS:FREE
SEQUENCE:0
CLASS:PUBLIC
PRIORITY:1
DTSTART:20260419T070000Z
DTEND:20260419T080000Z
BEGIN:VALARM
TRIGGER:-PT30M
ACTION:DISPLAY
DESCRIPTION:Reminder for Quizfrage 4682
END:VALARM
END:VEVENT
END:VCALENDAR
