BEGIN:VCALENDAR
VERSION:2.0
METHOD:PUBLISH
PRODID:- PBCS IT-News //NONSGML Events //EN
CALSCALE:GREGORIAN
X-WR-CALNAME:ICAL-BLOG
BEGIN:VEVENT
UID:95ab2034-abbe-444e-a7ea-d3dc09367436
DTSTAMP:20260425T032312Z
CREATED:20260425T032312Z
SUMMARY:Quizfrage 4680
DESCRIPTION:https://wp.pbcs.de/question/quizfrage-4680/ - Artikel vom: Mo.\, 29. September 2025\, 19:09:39 - KI-erstelltes Bild: In welcher Stadt ist der Bär?
LOCATION:https://wp.pbcs.de
CATEGORIES:Gelbe Kategorie
TRANSP:TRANSPARENT
X-MICROSOFT-CDO-BUSYSTATUS:FREE
SEQUENCE:0
CLASS:PUBLIC
PRIORITY:1
DTSTART:20260425T070000Z
DTEND:20260425T080000Z
BEGIN:VALARM
TRIGGER:-PT30M
ACTION:DISPLAY
DESCRIPTION:Reminder for Quizfrage 4680
END:VALARM
END:VEVENT
END:VCALENDAR
