BEGIN:VCALENDAR
VERSION:2.0
METHOD:PUBLISH
PRODID:- PBCS IT-News //NONSGML Events //EN
CALSCALE:GREGORIAN
X-WR-CALNAME:ICAL-BLOG
BEGIN:VEVENT
UID:e0e407e3-aab8-464e-ac0f-70d3639dc9dc
DTSTAMP:20260423T153857Z
CREATED:20260423T153857Z
SUMMARY:Quizfrage 4675
DESCRIPTION:https://wp.pbcs.de/question/quizfrage-4675/ - Artikel vom: Mo.\, 29. September 2025\, 19:09:39 - KI-erstelltes Bild: Welchen Ort suchen wir?
LOCATION:https://wp.pbcs.de
CATEGORIES:Gelbe Kategorie
TRANSP:TRANSPARENT
X-MICROSOFT-CDO-BUSYSTATUS:FREE
SEQUENCE:0
CLASS:PUBLIC
PRIORITY:1
DTSTART:20260424T070000Z
DTEND:20260424T080000Z
BEGIN:VALARM
TRIGGER:-PT30M
ACTION:DISPLAY
DESCRIPTION:Reminder for Quizfrage 4675
END:VALARM
END:VEVENT
END:VCALENDAR
