BEGIN:VCALENDAR
VERSION:2.0
METHOD:PUBLISH
PRODID:- PBCS IT-News //NONSGML Events //EN
CALSCALE:GREGORIAN
X-WR-CALNAME:ICAL-BLOG
BEGIN:VEVENT
UID:590a0d60-b1d4-48e7-8e1f-c4d81782d9fe
DTSTAMP:20260423T084454Z
CREATED:20260423T084454Z
SUMMARY:Quizfrage 4675
DESCRIPTION:https://wp.pbcs.de/question/quizfrage-4675/ - Artikel vom: Mo.\, 29. September 2025\, 19:09:39 - KI-erstelltes Bild: Welchen Ort suchen wir?
LOCATION:https://wp.pbcs.de
CATEGORIES:Gelbe Kategorie
TRANSP:TRANSPARENT
X-MICROSOFT-CDO-BUSYSTATUS:FREE
SEQUENCE:0
CLASS:PUBLIC
PRIORITY:1
DTSTART:20260423T070000Z
DTEND:20260423T080000Z
BEGIN:VALARM
TRIGGER:-PT30M
ACTION:DISPLAY
DESCRIPTION:Reminder for Quizfrage 4675
END:VALARM
END:VEVENT
END:VCALENDAR
