BEGIN:VCALENDAR
VERSION:2.0
METHOD:PUBLISH
PRODID:- PBCS IT-News //NONSGML Events //EN
CALSCALE:GREGORIAN
X-WR-CALNAME:ICAL-BLOG
BEGIN:VEVENT
UID:061dd22d-fe31-4bce-ad81-cb92a8bc2b54
DTSTAMP:20260421T110213Z
CREATED:20260421T110213Z
SUMMARY:Quizfrage 4670
DESCRIPTION:https://wp.pbcs.de/question/quizfrage-4670/ - Artikel vom: Mo.\, 29. September 2025\, 19:09:38 - KI-erstelltes Bild: Welcher Film wird gesucht?
LOCATION:https://wp.pbcs.de
CATEGORIES:Gelbe Kategorie
TRANSP:TRANSPARENT
X-MICROSOFT-CDO-BUSYSTATUS:FREE
SEQUENCE:0
CLASS:PUBLIC
PRIORITY:1
DTSTART:20260416T070000Z
DTEND:20260416T080000Z
BEGIN:VALARM
TRIGGER:-PT30M
ACTION:DISPLAY
DESCRIPTION:Reminder for Quizfrage 4670
END:VALARM
END:VEVENT
END:VCALENDAR
