BEGIN:VCALENDAR
VERSION:2.0
METHOD:PUBLISH
PRODID:- PBCS IT-News //NONSGML Events //EN
CALSCALE:GREGORIAN
X-WR-CALNAME:ICAL-BLOG
BEGIN:VEVENT
UID:d763f3cd-db80-4c8f-9d7c-0547dfc3ee21
DTSTAMP:20260419T145036Z
CREATED:20260419T145036Z
SUMMARY:Quizfrage 4657
DESCRIPTION:https://wp.pbcs.de/question/quizfrage-4657/ - Artikel vom: Mo.\, 29. September 2025\, 19:09:37 - KI-erstelltes Bild: Welches Kunstwerk von wem wird gesucht?
LOCATION:https://wp.pbcs.de
CATEGORIES:Gelbe Kategorie
TRANSP:TRANSPARENT
X-MICROSOFT-CDO-BUSYSTATUS:FREE
SEQUENCE:0
CLASS:PUBLIC
PRIORITY:1
DTSTART:20260416T070000Z
DTEND:20260416T080000Z
BEGIN:VALARM
TRIGGER:-PT30M
ACTION:DISPLAY
DESCRIPTION:Reminder for Quizfrage 4657
END:VALARM
END:VEVENT
END:VCALENDAR
