BEGIN:VCALENDAR
VERSION:2.0
METHOD:PUBLISH
PRODID:- PBCS IT-News //NONSGML Events //EN
CALSCALE:GREGORIAN
X-WR-CALNAME:ICAL-BLOG
BEGIN:VEVENT
UID:46d3d2f3-0a38-4de2-9292-21042ea2df08
DTSTAMP:20260425T135047Z
CREATED:20260425T135047Z
SUMMARY:Quizfrage 4614
DESCRIPTION:https://wp.pbcs.de/question/quizfrage-4614/ - Artikel vom: Mo.\, 29. September 2025\, 19:09:35 - Welche dieser Speisen ist typisch für die deutsche Küche?
LOCATION:https://wp.pbcs.de
CATEGORIES:Gelbe Kategorie
TRANSP:TRANSPARENT
X-MICROSOFT-CDO-BUSYSTATUS:FREE
SEQUENCE:0
CLASS:PUBLIC
PRIORITY:1
DTSTART:20260426T070000Z
DTEND:20260426T080000Z
BEGIN:VALARM
TRIGGER:-PT30M
ACTION:DISPLAY
DESCRIPTION:Reminder for Quizfrage 4614
END:VALARM
END:VEVENT
END:VCALENDAR
