BEGIN:VCALENDAR
VERSION:2.0
METHOD:PUBLISH
PRODID:- PBCS IT-News //NONSGML Events //EN
CALSCALE:GREGORIAN
X-WR-CALNAME:ICAL-BLOG
BEGIN:VEVENT
UID:f1dd171f-4409-4fa1-a386-d29088db6796
DTSTAMP:20260423T223127Z
CREATED:20260423T223127Z
SUMMARY:Quizfrage 4614
DESCRIPTION:https://wp.pbcs.de/question/quizfrage-4614/ - Artikel vom: Mo.\, 29. September 2025\, 19:09:35 - Welche dieser Speisen ist typisch für die deutsche Küche?
LOCATION:https://wp.pbcs.de
CATEGORIES:Gelbe Kategorie
TRANSP:TRANSPARENT
X-MICROSOFT-CDO-BUSYSTATUS:FREE
SEQUENCE:0
CLASS:PUBLIC
PRIORITY:1
DTSTART:20260424T070000Z
DTEND:20260424T080000Z
BEGIN:VALARM
TRIGGER:-PT30M
ACTION:DISPLAY
DESCRIPTION:Reminder for Quizfrage 4614
END:VALARM
END:VEVENT
END:VCALENDAR
