BEGIN:VCALENDAR
VERSION:2.0
METHOD:PUBLISH
PRODID:- PBCS IT-News //NONSGML Events //EN
CALSCALE:GREGORIAN
X-WR-CALNAME:ICAL-BLOG
BEGIN:VEVENT
UID:5f9b34c8-8b4a-4d46-9434-15305f1b8918
DTSTAMP:20260425T014127Z
CREATED:20260425T014127Z
SUMMARY:Quizfrage 4576
DESCRIPTION:https://wp.pbcs.de/question/quizfrage-4576/ - Artikel vom: Mo.\, 29. September 2025\, 19:09:34 - In welchem Land liegen Kilimandscharo und Serengeti
LOCATION:https://wp.pbcs.de
CATEGORIES:Gelbe Kategorie
TRANSP:TRANSPARENT
X-MICROSOFT-CDO-BUSYSTATUS:FREE
SEQUENCE:0
CLASS:PUBLIC
PRIORITY:1
DTSTART:20260425T070000Z
DTEND:20260425T080000Z
BEGIN:VALARM
TRIGGER:-PT30M
ACTION:DISPLAY
DESCRIPTION:Reminder for Quizfrage 4576
END:VALARM
END:VEVENT
END:VCALENDAR
