BEGIN:VCALENDAR
VERSION:2.0
METHOD:PUBLISH
PRODID:- PBCS IT-News //NONSGML Events //EN
CALSCALE:GREGORIAN
X-WR-CALNAME:ICAL-BLOG
BEGIN:VEVENT
UID:54f9d29d-7f46-48a7-9b84-ba73509c39e8
DTSTAMP:20260424T035531Z
CREATED:20260424T035531Z
SUMMARY:Quizfrage 4562
DESCRIPTION:https://wp.pbcs.de/question/quizfrage-4562/ - Artikel vom: Mo.\, 29. September 2025\, 19:09:34 - Wie lautet die offizielle Amtssprache in den USA?
LOCATION:https://wp.pbcs.de
CATEGORIES:Gelbe Kategorie
TRANSP:TRANSPARENT
X-MICROSOFT-CDO-BUSYSTATUS:FREE
SEQUENCE:0
CLASS:PUBLIC
PRIORITY:1
DTSTART:20260424T070000Z
DTEND:20260424T080000Z
BEGIN:VALARM
TRIGGER:-PT30M
ACTION:DISPLAY
DESCRIPTION:Reminder for Quizfrage 4562
END:VALARM
END:VEVENT
END:VCALENDAR
