BEGIN:VCALENDAR
VERSION:2.0
METHOD:PUBLISH
PRODID:- PBCS IT-News //NONSGML Events //EN
CALSCALE:GREGORIAN
X-WR-CALNAME:ICAL-BLOG
BEGIN:VEVENT
UID:b7308270-8106-4309-9dfa-1f00631ce606
DTSTAMP:20260425T032327Z
CREATED:20260425T032327Z
SUMMARY:Quizfrage 4523
DESCRIPTION:https://wp.pbcs.de/question/quizfrage-4523/ - Artikel vom: Mo.\, 29. September 2025\, 19:09:33 - Wie lautet das Flughafenkürzel von: Vancouver / Kanada
LOCATION:https://wp.pbcs.de
CATEGORIES:Gelbe Kategorie
TRANSP:TRANSPARENT
X-MICROSOFT-CDO-BUSYSTATUS:FREE
SEQUENCE:0
CLASS:PUBLIC
PRIORITY:1
DTSTART:20260425T070000Z
DTEND:20260425T080000Z
BEGIN:VALARM
TRIGGER:-PT30M
ACTION:DISPLAY
DESCRIPTION:Reminder for Quizfrage 4523
END:VALARM
END:VEVENT
END:VCALENDAR
