BEGIN:VCALENDAR
VERSION:2.0
METHOD:PUBLISH
PRODID:- PBCS IT-News //NONSGML Events //EN
CALSCALE:GREGORIAN
X-WR-CALNAME:ICAL-BLOG
BEGIN:VEVENT
UID:2b737bb3-d443-4db4-97e4-c759a5ff78ba
DTSTAMP:20260425T115744Z
CREATED:20260425T115744Z
SUMMARY:Quizfrage 4517
DESCRIPTION:https://wp.pbcs.de/question/quizfrage-4517/ - Artikel vom: Mo.\, 29. September 2025\, 19:09:32 - Wie lautet das Flughafenkürzel von: San Juan / Puerto Rico
LOCATION:https://wp.pbcs.de
CATEGORIES:Gelbe Kategorie
TRANSP:TRANSPARENT
X-MICROSOFT-CDO-BUSYSTATUS:FREE
SEQUENCE:0
CLASS:PUBLIC
PRIORITY:1
DTSTART:20260425T070000Z
DTEND:20260425T080000Z
BEGIN:VALARM
TRIGGER:-PT30M
ACTION:DISPLAY
DESCRIPTION:Reminder for Quizfrage 4517
END:VALARM
END:VEVENT
END:VCALENDAR
