BEGIN:VCALENDAR
VERSION:2.0
METHOD:PUBLISH
PRODID:- PBCS IT-News //NONSGML Events //EN
CALSCALE:GREGORIAN
X-WR-CALNAME:ICAL-BLOG
BEGIN:VEVENT
UID:a598e44c-2287-470a-ac8d-f09d2b61a9bf
DTSTAMP:20260424T164140Z
CREATED:20260424T164140Z
SUMMARY:Quizfrage 4512
DESCRIPTION:https://wp.pbcs.de/question/quizfrage-4512/ - Artikel vom: Mo.\, 29. September 2025\, 19:09:32 - Wie lautet das Flughafenkürzel von: Punta Cana / Dominikanische Rep.
LOCATION:https://wp.pbcs.de
CATEGORIES:Gelbe Kategorie
TRANSP:TRANSPARENT
X-MICROSOFT-CDO-BUSYSTATUS:FREE
SEQUENCE:0
CLASS:PUBLIC
PRIORITY:1
DTSTART:20260425T070000Z
DTEND:20260425T080000Z
BEGIN:VALARM
TRIGGER:-PT30M
ACTION:DISPLAY
DESCRIPTION:Reminder for Quizfrage 4512
END:VALARM
END:VEVENT
END:VCALENDAR
