BEGIN:VCALENDAR
VERSION:2.0
METHOD:PUBLISH
PRODID:- PBCS IT-News //NONSGML Events //EN
CALSCALE:GREGORIAN
X-WR-CALNAME:ICAL-BLOG
BEGIN:VEVENT
UID:2b800f64-77b5-45f6-bcb0-121086e64ec9
DTSTAMP:20260425T152003Z
CREATED:20260425T152003Z
SUMMARY:Quizfrage 4511
DESCRIPTION:https://wp.pbcs.de/question/quizfrage-4511/ - Artikel vom: Mo.\, 29. September 2025\, 19:09:32 - Wie lautet das Flughafenkürzel von: Puerto Plata / Dominikanische Rep.
LOCATION:https://wp.pbcs.de
CATEGORIES:Gelbe Kategorie
TRANSP:TRANSPARENT
X-MICROSOFT-CDO-BUSYSTATUS:FREE
SEQUENCE:0
CLASS:PUBLIC
PRIORITY:1
DTSTART:20260426T070000Z
DTEND:20260426T080000Z
BEGIN:VALARM
TRIGGER:-PT30M
ACTION:DISPLAY
DESCRIPTION:Reminder for Quizfrage 4511
END:VALARM
END:VEVENT
END:VCALENDAR
