BEGIN:VCALENDAR
VERSION:2.0
METHOD:PUBLISH
PRODID:- PBCS IT-News //NONSGML Events //EN
CALSCALE:GREGORIAN
X-WR-CALNAME:ICAL-BLOG
BEGIN:VEVENT
UID:9027223f-70ff-40a3-8298-eef4a68ad622
DTSTAMP:20260425T131232Z
CREATED:20260425T131232Z
SUMMARY:Quizfrage 4500
DESCRIPTION:https://wp.pbcs.de/question/quizfrage-4500/ - Artikel vom: Mo.\, 29. September 2025\, 19:09:32 - Wie lautet das Flughafenkürzel von: Havanna / Kuba
LOCATION:https://wp.pbcs.de
CATEGORIES:Gelbe Kategorie
TRANSP:TRANSPARENT
X-MICROSOFT-CDO-BUSYSTATUS:FREE
SEQUENCE:0
CLASS:PUBLIC
PRIORITY:1
DTSTART:20260426T070000Z
DTEND:20260426T080000Z
BEGIN:VALARM
TRIGGER:-PT30M
ACTION:DISPLAY
DESCRIPTION:Reminder for Quizfrage 4500
END:VALARM
END:VEVENT
END:VCALENDAR
